BEGIN:VCALENDAR
VERSION:2.0
PRODID:-//WhichCraft - ECPv6.15.4//NONSGML v1.0//EN
CALSCALE:GREGORIAN
METHOD:PUBLISH
X-WR-CALNAME:WhichCraft
X-ORIGINAL-URL:https://www.whichcraft.com
X-WR-CALDESC:Events for WhichCraft
REFRESH-INTERVAL;VALUE=DURATION:PT1H
X-Robots-Tag:noindex
X-PUBLISHED-TTL:PT1H
BEGIN:VTIMEZONE
TZID:America/Chicago
BEGIN:DAYLIGHT
TZOFFSETFROM:-0600
TZOFFSETTO:-0500
TZNAME:CDT
DTSTART:20170312T080000
END:DAYLIGHT
BEGIN:STANDARD
TZOFFSETFROM:-0500
TZOFFSETTO:-0600
TZNAME:CST
DTSTART:20171105T070000
END:STANDARD
BEGIN:DAYLIGHT
TZOFFSETFROM:-0600
TZOFFSETTO:-0500
TZNAME:CDT
DTSTART:20180311T080000
END:DAYLIGHT
BEGIN:STANDARD
TZOFFSETFROM:-0500
TZOFFSETTO:-0600
TZNAME:CST
DTSTART:20181104T070000
END:STANDARD
BEGIN:DAYLIGHT
TZOFFSETFROM:-0600
TZOFFSETTO:-0500
TZNAME:CDT
DTSTART:20190310T080000
END:DAYLIGHT
BEGIN:STANDARD
TZOFFSETFROM:-0500
TZOFFSETTO:-0600
TZNAME:CST
DTSTART:20191103T070000
END:STANDARD
END:VTIMEZONE
BEGIN:VEVENT
DTSTART;TZID=America/Chicago:20190307T170000
DTEND;TZID=America/Chicago:20190307T200000
DTSTAMP:20260425T085123
CREATED:20190226T194331Z
LAST-MODIFIED:20190226T194331Z
UID:3591-1551978000-1551988800@www.whichcraft.com
SUMMARY:Martin House Pint Night
DESCRIPTION:We’ll be featuring the 2019 Whiskey Barrel-Aged Acheron Imperial Stout & the guava agave sour El Chuco from Martin House.  We’ll also have 6pks of Martin House core beers on sale for $7.99. So\, grab a pint & take a 6pk to go!
URL:https://www.whichcraft.com/event/martin-house-pint-night-2/
LOCATION:WhichCraft Mueller\, 1900 Simond Ave\, Suite 200\, Austin\, TX\, 78723\, United States
CATEGORIES:Pint Night,Rare Beer Release,Rare Tapping
END:VEVENT
BEGIN:VEVENT
DTSTART;TZID=America/Chicago:20190221T170000
DTEND;TZID=America/Chicago:20190221T200000
DTSTAMP:20260425T085123
CREATED:20190209T164944Z
LAST-MODIFIED:20190214T210923Z
UID:3574-1550768400-1550779200@www.whichcraft.com
SUMMARY:Hi Sign/Red Horn 3 CPO IPA Pint Night
DESCRIPTION:A mix of cryo\, pellet & hop oil\, this collaboration IPA from Hi Sign & Red Horn breweries is a celebration of all things hops.  Join us as we tap a keg of this special release!  We’ll also be featuring separate drafts from each brewery so let’s hoist some pints.
URL:https://www.whichcraft.com/event/hi-sign-red-horn-3-cpo-ipa-pint-night/
LOCATION:WhichCraft Mueller\, 1900 Simond Ave\, Suite 200\, Austin\, TX\, 78723\, United States
CATEGORIES:Pint Night,Rare Beer Release,Rare Tapping
END:VEVENT
BEGIN:VEVENT
DTSTART;TZID=America/Chicago:20190208T170000
DTEND;TZID=America/Chicago:20190208T200000
DTSTAMP:20260425T085123
CREATED:20190119T191859Z
LAST-MODIFIED:20190119T191859Z
UID:3546-1549645200-1549656000@www.whichcraft.com
SUMMARY:Lagunitas Willetized Coffee Stout Pint Night
DESCRIPTION:We’ll be featuring the rye barrel aged Willetized Coffee Stout from Lagunitas Brewing Co.  We’ll also have plenty of bottles to take home!
URL:https://www.whichcraft.com/event/lagunitas-willetized-coffee-stout-pint-night/
LOCATION:WhichCraft Mueller\, 1900 Simond Ave\, Suite 200\, Austin\, TX\, 78723\, United States
CATEGORIES:Rare Beer Release,Rare Tapping
END:VEVENT
BEGIN:VEVENT
DTSTART;TZID=America/Chicago:20190201T170000
DTEND;TZID=America/Chicago:20190201T200000
DTSTAMP:20260425T085123
CREATED:20190119T173044Z
LAST-MODIFIED:20190119T173044Z
UID:3543-1549040400-1549051200@www.whichcraft.com
SUMMARY:Sputnik Fest!
DESCRIPTION:We’ll have the 2017 Sputnik\, 2018 Sputnik & 2018 El Sputniko from Austin Beerworks on draft.  Get Sputnky!
URL:https://www.whichcraft.com/event/sputnik-fest/
LOCATION:WhichCraft Mueller\, 1900 Simond Ave\, Suite 200\, Austin\, TX\, 78723\, United States
CATEGORIES:Pint Night,Rare Beer Release,Rare Tapping
END:VEVENT
BEGIN:VEVENT
DTSTART;TZID=America/Chicago:20190118T160000
DTEND;TZID=America/Chicago:20190118T190000
DTSTAMP:20260425T085123
CREATED:20191228T155610Z
LAST-MODIFIED:20191228T155733Z
UID:3975-1547827200-1547838000@www.whichcraft.com
SUMMARY:Lakewood Salted Caramel Temptress Pint Night
DESCRIPTION:Kicking off our Stout Week\, we’re featuring Lakewood Brewing’s Salted Caramel Temptress on draft as well as tasting Droid Rage Imperial Red & Cold Front in package.
URL:https://www.whichcraft.com/event/lakewood-salted-caramel-temptress-pint-night/
LOCATION:WhichCraft Mueller\, 1900 Simond Ave\, Suite 200\, Austin\, TX\, 78723\, United States
CATEGORIES:Rare Beer Release,Rare Tapping,Special Tastings
END:VEVENT
BEGIN:VEVENT
DTSTART;TZID=America/Chicago:20181214T170000
DTEND;TZID=America/Chicago:20181214T200000
DTSTAMP:20260425T085123
CREATED:20181127T184749Z
LAST-MODIFIED:20181213T203406Z
UID:3479-1544806800-1544817600@www.whichcraft.com
SUMMARY:Founder's Event: Maple Surple for Dayz
DESCRIPTION:We’re breaking out the big guns for this one. We’ll be featuring 2017 CBS\, 2018 CBS and 2018 Curmudgeon’s Better Half from Founders Brewing Co. all on draft. We’ll also be releasing 2 cases of 2018 CBS bottles starting at 6pm\, first come\, first served. Limit 1 per person.
URL:https://www.whichcraft.com/event/founders-event-maple-surple-for-dayz/
LOCATION:WhichCraft Mueller\, 1900 Simond Ave\, Suite 200\, Austin\, TX\, 78723\, United States
CATEGORIES:Pint Night,Rare Beer Release,Rare Tapping
END:VEVENT
BEGIN:VEVENT
DTSTART;TZID=America/Chicago:20181130T170000
DTEND;TZID=America/Chicago:20181130T200000
DTSTAMP:20260425T085123
CREATED:20181126T203257Z
LAST-MODIFIED:20181126T203318Z
UID:3473-1543597200-1543608000@www.whichcraft.com
SUMMARY:(512) Pint Night
DESCRIPTION:(512) Brewing brings us a keg of their Funky Kingston – an oak aged Brett Copper Ale – along with the year’s Whiskey Barrel Aged Double Pecan Porter.
URL:https://www.whichcraft.com/event/512-pint-night/
LOCATION:WhichCraft Mueller\, 1900 Simond Ave\, Suite 200\, Austin\, TX\, 78723\, United States
CATEGORIES:Rare Beer Release,Rare Tapping
END:VEVENT
BEGIN:VEVENT
DTSTART;TZID=America/Chicago:20181123T170000
DTEND;TZID=America/Chicago:20181123T200000
DTSTAMP:20260425T085123
CREATED:20181030T213909Z
LAST-MODIFIED:20181030T213909Z
UID:3440-1542992400-1543003200@www.whichcraft.com
SUMMARY:Black Friday Pumpkinator Party
DESCRIPTION:We’ll be featuring 2017 and 2018 versions of Saint Arnold Pumpkinator stout as well as releasing some rare BA Pumpkinator bottles and other specially cellared bottles of Saint Arnold beers.
URL:https://www.whichcraft.com/event/black-friday-pumpkinator-party/
LOCATION:WhichCraft Mueller\, 1900 Simond Ave\, Suite 200\, Austin\, TX\, 78723\, United States
CATEGORIES:Rare Beer Release,Rare Tapping
END:VEVENT
BEGIN:VEVENT
DTSTART;TZID=America/Chicago:20181004T170000
DTEND;TZID=America/Chicago:20181004T200000
DTSTAMP:20260425T085123
CREATED:20180911T172553Z
LAST-MODIFIED:20180911T172553Z
UID:3346-1538672400-1538683200@www.whichcraft.com
SUMMARY:Hops & Grain Oktoberfest Pint Night
DESCRIPTION:Jeremiah from Hops & Grain Brewing will be here for another round of Oktoberfest beer celebration with the return of their O-Fest on tap.
URL:https://www.whichcraft.com/event/hops-grain-oktoberfest-pint-night/
LOCATION:WhichCraft Mueller\, 1900 Simond Ave\, Suite 200\, Austin\, TX\, 78723\, United States
CATEGORIES:Pint Night,Rare Beer Release,Rare Tapping
END:VEVENT
BEGIN:VEVENT
DTSTART;TZID=America/Chicago:20180831T170000
DTEND;TZID=America/Chicago:20180831T200000
DTSTAMP:20260425T085123
CREATED:20180730T192627Z
LAST-MODIFIED:20180821T184726Z
UID:3271-1535734800-1535745600@www.whichcraft.com
SUMMARY:Firestone Walker Rare Beer Release
DESCRIPTION:We’ve been cellaring some rare beers from Firestone Walker Brewing for a bit.  Help us drink them.  We’ll be featuring Undercurrants\, Stickee Monkee\, Velvet Merlin & Lager from Firestone Walker on draft and opening up the cellar for sampling and purchasing of rare bottles.  Get a pint\, then take something special home!
URL:https://www.whichcraft.com/event/firestone-walker-rare-beer-release/
LOCATION:WhichCraft Mueller\, 1900 Simond Ave\, Suite 200\, Austin\, TX\, 78723\, United States
CATEGORIES:Pint Night,Rare Beer Release,Rare Tapping,Special Tastings
END:VEVENT
BEGIN:VEVENT
DTSTART;TZID=America/Chicago:20180830T170000
DTEND;TZID=America/Chicago:20180830T200000
DTSTAMP:20260425T085123
CREATED:20180816T163901Z
LAST-MODIFIED:20180816T163901Z
UID:3288-1535648400-1535659200@www.whichcraft.com
SUMMARY:Hi Sign Violet Can Release & Pint Night
DESCRIPTION:We’ll be hosting a release party for Hi Sign Brewing’s Violet Blueberry Blonde in cans.  We’ll also be featuring Lucifer’s Fake News IPA on draft. Grab a pint and take some cans to go!
URL:https://www.whichcraft.com/event/hi-sign-violet-can-release-pint-night/
LOCATION:WhichCraft Mueller\, 1900 Simond Ave\, Suite 200\, Austin\, TX\, 78723\, United States
CATEGORIES:Pint Night,Rare Beer Release,Rare Tapping
END:VEVENT
BEGIN:VEVENT
DTSTART;TZID=America/Chicago:20180824T170000
DTEND;TZID=America/Chicago:20180824T200000
DTSTAMP:20260425T085123
CREATED:20180725T005621Z
LAST-MODIFIED:20180725T005621Z
UID:3262-1535130000-1535140800@www.whichcraft.com
SUMMARY:Founders Pint Night at The Tap Room
DESCRIPTION:We’ll be featuring Founders Brewing Co. Mosaic Promise SMaSH on draft.  Single Golden Promise malt and Mosaic hops make this a sensational juicy\, unique IPA.
URL:https://www.whichcraft.com/event/founders-pint-night-at-the-tap-room/
LOCATION:WhichCraft Mueller\, 1900 Simond Ave\, Suite 200\, Austin\, TX\, 78723\, United States
CATEGORIES:Pint Night,Rare Beer Release,Rare Tapping
END:VEVENT
BEGIN:VEVENT
DTSTART;TZID=America/Chicago:20180804T160000
DTEND;TZID=America/Chicago:20180804T190000
DTSTAMP:20260425T085123
CREATED:20180725T003113Z
LAST-MODIFIED:20180725T003113Z
UID:3254-1533398400-1533409200@www.whichcraft.com
SUMMARY:Moontower Pomme Blush Cider Launch
DESCRIPTION:We’ll be hosting the launch for Moontower Cider Co. new Pomme Blush cider – a a dry rose cider – available on draft and in cans.
URL:https://www.whichcraft.com/event/moontower-pomme-blush-cider-launch/
LOCATION:WhichCraft Mueller\, 1900 Simond Ave\, Suite 200\, Austin\, TX\, 78723\, United States
CATEGORIES:Pint Night,Rare Beer Release,Rare Tapping,Special Tastings
END:VEVENT
BEGIN:VEVENT
DTSTART;TZID=America/Chicago:20180713T170000
DTEND;TZID=America/Chicago:20180713T200000
DTSTAMP:20260425T085123
CREATED:20180628T184332Z
LAST-MODIFIED:20180628T184346Z
UID:3206-1531501200-1531512000@www.whichcraft.com
SUMMARY:H&G/PHP Peach of a Pale Release
DESCRIPTION:We’ll be tapping a keg of Hops & Grain Brewing’s Peach of a Pale\, pale ale brewed with Fredericksburg peaches\, which may or may not have been brewed with some of the fine folks at Pinthouse Pizza who also might happen to brew beers but probably not this one.
URL:https://www.whichcraft.com/event/hg-peach-of-a-pale-release/
LOCATION:WhichCraft Mueller\, 1900 Simond Ave\, Suite 200\, Austin\, TX\, 78723\, United States
CATEGORIES:Pint Night,Rare Tapping
END:VEVENT
BEGIN:VEVENT
DTSTART;TZID=America/Chicago:20180512T170000
DTEND;TZID=America/Chicago:20180512T200000
DTSTAMP:20260425T085123
CREATED:20180424T191137Z
LAST-MODIFIED:20180424T191137Z
UID:3047-1526144400-1526155200@www.whichcraft.com
SUMMARY:Lakewood Till & Toil Pint Night
DESCRIPTION:We’ll be doing a pairing of Lakewood Brewing Co.’s Till and Toil Saison side by side with their Red Wine Barrel Aged Till and Toil Saison.
URL:https://www.whichcraft.com/event/lakewood-till-toil-pint-night/
LOCATION:WhichCraft Mueller\, 1900 Simond Ave\, Suite 200\, Austin\, TX\, 78723\, United States
CATEGORIES:Rare Beer Release,Rare Tapping
END:VEVENT
BEGIN:VEVENT
DTSTART;TZID=America/Chicago:20180511T170000
DTEND;TZID=America/Chicago:20180511T200000
DTSTAMP:20260425T085123
CREATED:20180424T190744Z
LAST-MODIFIED:20180424T190744Z
UID:3045-1526058000-1526068800@www.whichcraft.com
SUMMARY:Ballast Point Special Pint Night
DESCRIPTION:We’ve got 1 of only 2 kegs of Ballast Point’s Mocha Marlin available in Texas.  We’ll be pouring it along with the new Aloha Sculpin on draft.  Don’t miss this one!
URL:https://www.whichcraft.com/event/ballast-point-special-pint-night/
LOCATION:WhichCraft Mueller\, 1900 Simond Ave\, Suite 200\, Austin\, TX\, 78723\, United States
CATEGORIES:Rare Beer Release,Rare Tapping
END:VEVENT
BEGIN:VEVENT
DTSTART;TZID=America/Chicago:20180428T160000
DTEND;TZID=America/Chicago:20180428T190000
DTSTAMP:20260425T085123
CREATED:20180416T234511Z
LAST-MODIFIED:20180416T234511Z
UID:3012-1524931200-1524942000@www.whichcraft.com
SUMMARY:Big Bend Brewing Transcendence IPA Pint Night
DESCRIPTION:Big Bend Brewing Co. brings us their new Transcendence IPA on draft.  BTBKTG – Buy The Beer\, Keep The Glass
URL:https://www.whichcraft.com/event/big-bend-brewing-transcendence-ipa-pint-night/
LOCATION:WhichCraft Mueller\, 1900 Simond Ave\, Suite 200\, Austin\, TX\, 78723\, United States
CATEGORIES:Pint Night,Rare Tapping
END:VEVENT
BEGIN:VEVENT
DTSTART;TZID=America/Chicago:20180413T170000
DTEND;TZID=America/Chicago:20180413T200000
DTSTAMP:20260425T085123
CREATED:20180326T223812Z
LAST-MODIFIED:20180326T232217Z
UID:2950-1523638800-1523649600@www.whichcraft.com
SUMMARY:Hops & Grain Flight Night
DESCRIPTION:We got our hands on a rare keg of Bourbon barrel aged Porter Culture and some bottles of Volumes of Oak Saison from Hops & Grain.  For $10\, we’ll do a 5 oz. pour of each plus throw in a can of Zoe to keep things going.
URL:https://www.whichcraft.com/event/hops-grain-flight-night/
LOCATION:WhichCraft Mueller\, 1900 Simond Ave\, Suite 200\, Austin\, TX\, 78723\, United States
CATEGORIES:Rare Beer Release,Rare Tapping,Special Tastings
END:VEVENT
BEGIN:VEVENT
DTSTART;TZID=America/Chicago:20180412T170000
DTEND;TZID=America/Chicago:20180412T200000
DTSTAMP:20260425T085123
CREATED:20180326T222558Z
LAST-MODIFIED:20180326T222558Z
UID:2946-1523552400-1523563200@www.whichcraft.com
SUMMARY:Pink Boots Seneca Falls Pale Ale Pint Night from Middleton Brewery
DESCRIPTION:Pink Boots Society is an organization created to assist\, inspire and encourage women beer industry professionals to advance their careers through education.  The local Pink Boots Society chapter brewed over at San Marcos’ Middleton Brewery and we get to taste the fruits of their labor – a Seneca Falls Pale Ale.  We’ll also be featuring some of Middleton’s core beers – Third Coast IPA\, Black Lab Porter\, Bobcat Red and Garnet Amber.
URL:https://www.whichcraft.com/event/pink-boots-seneca-falls-pale-ale-pint-night-from-middleton-brewery/
LOCATION:WhichCraft Mueller\, 1900 Simond Ave\, Suite 200\, Austin\, TX\, 78723\, United States
CATEGORIES:Rare Beer Release,Rare Tapping
ATTACH;FMTTYPE=image/jpeg:https://www.whichcraft.com/wp-content/uploads/2018/03/pink-boots.jpg
END:VEVENT
BEGIN:VEVENT
DTSTART;TZID=America/Chicago:20180405T170000
DTEND;TZID=America/Chicago:20180405T200000
DTSTAMP:20260425T085123
CREATED:20180324T162125Z
LAST-MODIFIED:20180324T162125Z
UID:2936-1522947600-1522958400@www.whichcraft.com
SUMMARY:Last Stand Imperial Milk Stout Pint Night
DESCRIPTION:We’ve got a draft only release of Last Stand Brewing’s Imperial Milk Stout\, a 9% smooth & delicious beast. We’ll also be sampling out some of their package beers\, including the new OneTwo IPA.
URL:https://www.whichcraft.com/event/last-stand-imperial-milk-stout-pint-night/
LOCATION:WhichCraft Mueller\, 1900 Simond Ave\, Suite 200\, Austin\, TX\, 78723\, United States
CATEGORIES:Pint Night,Rare Beer Release,Rare Tapping
END:VEVENT
BEGIN:VEVENT
DTSTART;TZID=America/Chicago:20180402T170000
DTEND;TZID=America/Chicago:20180402T180000
DTSTAMP:20260425T085123
CREATED:20180305T234052Z
LAST-MODIFIED:20180305T234052Z
UID:2870-1522688400-1522692000@www.whichcraft.com
SUMMARY:Founders KBS Release + Special Guests
DESCRIPTION:Hey! It’s the first Monday of April in Austin.  No better time to have a party.  At 5pm\, we’ll be tapping a keg of Founders brewing 2018 KBS as well as some of the new Solid Gold Lager. But wait! There’s more! We’ll be reaching way into the back of our cooler for a cellared keg of 2017 CBS.  MNSP – Monday Night Stout Party!
URL:https://www.whichcraft.com/event/founders-kbs-release-special-guests/
LOCATION:WhichCraft Mueller\, 1900 Simond Ave\, Suite 200\, Austin\, TX\, 78723\, United States
CATEGORIES:Rare Beer Release,Rare Tapping
END:VEVENT
BEGIN:VEVENT
DTSTART;TZID=America/Chicago:20180302T170000
DTEND;TZID=America/Chicago:20180302T200000
DTSTAMP:20260425T085123
CREATED:20180226T195943Z
LAST-MODIFIED:20180226T201535Z
UID:2821-1520010000-1520020800@www.whichcraft.com
SUMMARY:Community Beer Co. Specialty Pint Night
DESCRIPTION:Community Beer Company and WhichCraft Beer Store are teaming up for a night of specialty brews! Two limited edition Community beers will be available alongside brewery swag & giveaways: \n– PUBLIC ENEMY #1: A super small batch of award-winning Public Ale is aged in oak for an entire year with wild yeast & tart cherries. The result is a beautiful\, funky melding of oak\, spirit\, and fruit! \n– OAKED MOSAIC IPA: This floral\, hop-forward IPA is recirculated around toasted oak spirals infusing the citrusy beer with notes of toasted coconut\, honey\, and oak! 8.6% ABV
URL:https://www.whichcraft.com/event/community-beer-co-specialty-pint-night/
LOCATION:WhichCraft Mueller\, 1900 Simond Ave\, Suite 200\, Austin\, TX\, 78723\, United States
CATEGORIES:Rare Beer Release,Rare Tapping
END:VEVENT
BEGIN:VEVENT
DTSTART;TZID=America/Chicago:20180223T170000
DTEND;TZID=America/Chicago:20180223T200000
DTSTAMP:20260425T085123
CREATED:20180210T174500Z
LAST-MODIFIED:20180210T174500Z
UID:2770-1519405200-1519416000@www.whichcraft.com
SUMMARY:2017 Lakewood French Quarter Temptress Draft Release
DESCRIPTION:2017 Lakewood French Quarter Temptress Draft Release\nIn celebration of the 2018 Lakewood Brewing French Quarter Temptress release\, we’re tapping a rare keg of the 2017 French Quarter Temptress along with samples of the new 2018 French Quarter Temptress so you can taste them side by side.  Lakewood’s French Quarter Temptress is an Imperial Milk Stout brewed with chicory and Noble Coyote coffee. \n 
URL:https://www.whichcraft.com/event/2017-lakewood-french-quarter-temptress-draft-release/
LOCATION:WhichCraft Mueller\, 1900 Simond Ave\, Suite 200\, Austin\, TX\, 78723\, United States
CATEGORIES:Rare Beer Release,Rare Tapping
END:VEVENT
BEGIN:VEVENT
DTSTART;TZID=America/Chicago:20180203T160000
DTEND;TZID=America/Chicago:20180203T190000
DTSTAMP:20260425T085123
CREATED:20180123T012940Z
LAST-MODIFIED:20180124T172500Z
UID:2691-1517673600-1517684400@www.whichcraft.com
SUMMARY:Bell's Hopslam Pint Night
DESCRIPTION:Bell’s Hopslam Pint Night at The Tap Room\nWe’ll be punching a hole in a fresh keg of Bell’s Hopslam Double IPA – brewed with 6 different hop varietals along with a big malt backbone and a touch of honey.
URL:https://www.whichcraft.com/event/bells-hopslam-pint-night/
LOCATION:WhichCraft Mueller\, 1900 Simond Ave\, Suite 200\, Austin\, TX\, 78723\, United States
CATEGORIES:Pint Night,Rare Beer Release,Rare Tapping
END:VEVENT
BEGIN:VEVENT
DTSTART;TZID=America/Chicago:20180202T170000
DTEND;TZID=America/Chicago:20180202T200000
DTSTAMP:20260425T085123
CREATED:20180123T012107Z
LAST-MODIFIED:20180123T012144Z
UID:2689-1517590800-1517601600@www.whichcraft.com
SUMMARY:Freetail La Muerta Release
DESCRIPTION:Freetail La Muerta Release at The Tap Room\nJoin us as San Antonio’s Freetail Brewing brings us a keg of their GABF award winning La Muerta Whiskey and Port Cask finished stout.  Buy the Beer\, Keep the Glass!  We’ll also be sampling out their Texas Harvest Ale and Bat Outta Helles lager.
URL:https://www.whichcraft.com/event/freetail-la-muerta-release/
LOCATION:WhichCraft Mueller\, 1900 Simond Ave\, Suite 200\, Austin\, TX\, 78723\, United States
CATEGORIES:Rare Beer Release,Rare Tapping
END:VEVENT
BEGIN:VEVENT
DTSTART;TZID=America/Chicago:20180113T160000
DTEND;TZID=America/Chicago:20180113T190000
DTSTAMP:20260425T085123
CREATED:20180102T213144Z
LAST-MODIFIED:20180102T213144Z
UID:2612-1515859200-1515870000@www.whichcraft.com
SUMMARY:Blue Owl Special Release at The Tap Room
DESCRIPTION:Blue Owl Brewing at The Tap Room\nJeremy from Blue Owl Brewing will be helping us tap a special keg of their Barrel Aged Double Chocolate Cherry Professor Black.  We’ll also be offering samples of their core line up of sour mashed ales.
URL:https://www.whichcraft.com/event/blue-owl-special-release-at-the-tap-room/
LOCATION:WhichCraft Mueller\, 1900 Simond Ave\, Suite 200\, Austin\, TX\, 78723\, United States
CATEGORIES:Rare Tapping
END:VEVENT
BEGIN:VEVENT
DTSTART;TZID=America/Chicago:20171111T120000
DTEND;TZID=America/Chicago:20171111T200000
DTSTAMP:20260425T085123
CREATED:20171102T203848Z
LAST-MODIFIED:20171113T224812Z
UID:2396-1510401600-1510430400@www.whichcraft.com
SUMMARY:WhichCraft Mueller Anniversary Party
DESCRIPTION:WhichCraft Mueller Anniversary Party\nGood news\, everyone! We’re turning 1 at Mueller this month\, and we’re celebrating this joyous event on Saturday the 11th\, from 12-8pm\, and we’re blowing this baby out! We’ll have special keg tappings\, rare bottles for sale each hour\, and expanded food options. We’re keeping the bottles a surprise\, but at noon we’re tapping: Firestone Walker Parabola\, Stickee Monkee\, and Mocha Merlin; Jester King collaborations Bouffon and Gammalux; Pinthouse Pizza Wet Hop Nomura; a cask of Lone Pint Yellow Rose w/pineapple; and St. Arnold Pumpkinator.  We’ll also have $2 pints of Texas Helles and $4 pints of Mosaic from Community Beer Co. \nFood Line-up:\n8am-12pm: Tacodeli Breakfast Tacos\n1pm-5pm: Gourmet Grilled Cheese \nPlus! Beer Cheese & Pretzels from M’lady’s Bakery & Apple pies from Colleen’s Kitchen \nThank you for all your support and patronage these last twelve months\, we couldn’t have done it without you. \n 
URL:https://www.whichcraft.com/event/whichcraft-mueller-anniversary-party/
LOCATION:WhichCraft Mueller\, 1900 Simond Ave\, Suite 200\, Austin\, TX\, 78723\, United States
CATEGORIES:Rare Beer Release,Rare Tapping
END:VEVENT
BEGIN:VEVENT
DTSTART;TZID=America/Chicago:20171110T170000
DTEND;TZID=America/Chicago:20171110T200000
DTSTAMP:20260425T085123
CREATED:20171106T214530Z
LAST-MODIFIED:20171106T225813Z
UID:2404-1510333200-1510344000@www.whichcraft.com
SUMMARY:Firestone Walker Rare Tappings
DESCRIPTION:Rare Drafts from Firestone Walker\nTo keep the party rolling we are teaming up with Firestone Walker to bring you some rare kegs of Stickee Monkee and Parabola.  For the weak-hearted\, we’ll also have the Pivo Pils on draft.
URL:https://www.whichcraft.com/event/firestone-walker-rare-tappings/
LOCATION:WhichCraft Mueller\, 1900 Simond Ave\, Suite 200\, Austin\, TX\, 78723\, United States
CATEGORIES:Rare Beer Release,Rare Tapping
END:VEVENT
BEGIN:VEVENT
DTSTART;TZID=America/Chicago:20171020T170000
DTEND;TZID=America/Chicago:20171020T200000
DTSTAMP:20260425T085123
CREATED:20171017T005432Z
LAST-MODIFIED:20171017T005432Z
UID:2318-1508518800-1508529600@www.whichcraft.com
SUMMARY:Goose Island Cooper Project #2 Tapping - BTBKTG!
DESCRIPTION:Goose Island Cooper Project #2\nWe’ll be tapping a keg of Goose Island’s Cooper Project #2 – a blonde dopplebock aged in bourbon barrels.  Buy the Beer Keep The Glass.  Also pouring 4 Star Pils and Festbier! \n 
URL:https://www.whichcraft.com/event/goose-island-cooper-project-2-tapping-btbktg/
LOCATION:WhichCraft Mueller\, 1900 Simond Ave\, Suite 200\, Austin\, TX\, 78723\, United States
CATEGORIES:Rare Beer Release,Rare Tapping
END:VEVENT
BEGIN:VEVENT
DTSTART;TZID=America/Chicago:20170429T170000
DTEND;TZID=America/Chicago:20170429T190000
DTSTAMP:20260425T085123
CREATED:20170426T141024Z
LAST-MODIFIED:20170426T141024Z
UID:1862-1493485200-1493492400@www.whichcraft.com
SUMMARY:Prairie Pint Night! (Mueller)
DESCRIPTION:We’ll have a special Pint Night with Prairie Artisan Ales at the Tap Room! We’ll tap our keg of Pirate Bomb! and Apricot Funk with free glassware. Also\, there will be free samples of the Prairie Weisse\, Bomb and Phantasmagoria!
URL:https://www.whichcraft.com/event/prairie-pint-night-mueller/
LOCATION:WhichCraft Mueller\, 1900 Simond Ave\, Suite 200\, Austin\, TX\, 78723\, United States
CATEGORIES:Pint Night,Rare Tapping
END:VEVENT
END:VCALENDAR