BEGIN:VCALENDAR
VERSION:2.0
PRODID:-//WhichCraft - ECPv6.15.4//NONSGML v1.0//EN
CALSCALE:GREGORIAN
METHOD:PUBLISH
X-ORIGINAL-URL:https://www.whichcraft.com
X-WR-CALDESC:Events for WhichCraft
REFRESH-INTERVAL;VALUE=DURATION:PT1H
X-Robots-Tag:noindex
X-PUBLISHED-TTL:PT1H
BEGIN:VTIMEZONE
TZID:America/Chicago
BEGIN:DAYLIGHT
TZOFFSETFROM:-0600
TZOFFSETTO:-0500
TZNAME:CDT
DTSTART:20180311T080000
END:DAYLIGHT
BEGIN:STANDARD
TZOFFSETFROM:-0500
TZOFFSETTO:-0600
TZNAME:CST
DTSTART:20181104T070000
END:STANDARD
END:VTIMEZONE
BEGIN:VEVENT
DTSTART;TZID=America/Chicago:20180803T180000
DTEND;TZID=America/Chicago:20180803T200000
DTSTAMP:20260425T053820
CREATED:20180724T233937Z
LAST-MODIFIED:20180724T233937Z
UID:3249-1533319200-1533326400@www.whichcraft.com
SUMMARY:Indy Brewing Tasting at The Beer Store
DESCRIPTION:Kevin from Independence Brewing will be here sampling out their Cucumber Redbud and new Native Texan Pilsner
URL:https://www.whichcraft.com/event/indy-brewing-tasting-at-the-beer-store/
LOCATION:WhichCraft Beer Store\, 2110 S Lamar Blvd STE F\, Austin\, TX\, 78704\, United States
CATEGORIES:Special Tastings
END:VEVENT
BEGIN:VEVENT
DTSTART;TZID=America/Chicago:20180803T170000
DTEND;TZID=America/Chicago:20180803T200000
DTSTAMP:20260425T053820
CREATED:20180724T230715Z
LAST-MODIFIED:20180724T230715Z
UID:3247-1533315600-1533326400@www.whichcraft.com
SUMMARY:Alesmith Pint Night at the Tap Room
DESCRIPTION:We’ll be featuring Hawaiian Speedway Stout with Ka’u Coffee\, Coconut and Vanilla and Mt. Crushmore Cream Ale from Alesmith Brewing Co. on draft as well as sampling out some Alesmith bottles and cans.  Get to know all things Alesmith!
URL:https://www.whichcraft.com/event/alesmith-pint-night-at-the-tap-room/
LOCATION:WhichCraft Mueller\, 1900 Simond Ave\, Suite 200\, Austin\, TX\, 78723\, United States
CATEGORIES:Rare Beer Release,Special Tastings
END:VEVENT
BEGIN:VEVENT
DTSTART;TZID=America/Chicago:20180728T150000
DTEND;TZID=America/Chicago:20180728T170000
DTSTAMP:20260425T053820
CREATED:20180702T222630Z
LAST-MODIFIED:20180702T222630Z
UID:3219-1532790000-1532797200@www.whichcraft.com
SUMMARY:5 Stones Shepherd Warrior Tasting
DESCRIPTION:Andrew from 5 Stones Brewery will be here with some fresh cans of their new Shepherd Warrior\, a 7.2%\, 32 IBU IPA with Warrior Hops @ bittering and Citra & Mosaic at whirlpool & dry hop.  We’ll also be sampling out their Back from Bridge City grapefruit IPA – perfect for summer!
URL:https://www.whichcraft.com/event/5-stones-shepherd-warrior-tasting/
LOCATION:WhichCraft Beer Store\, 2110 S Lamar Blvd STE F\, Austin\, TX\, 78704\, United States
CATEGORIES:Rare Beer Release,Special Tastings
END:VEVENT
BEGIN:VEVENT
DTSTART;TZID=America/Chicago:20180727T180000
DTEND;TZID=America/Chicago:20180727T200000
DTSTAMP:20260425T053820
CREATED:20180710T221707Z
LAST-MODIFIED:20180710T221707Z
UID:3232-1532714400-1532721600@www.whichcraft.com
SUMMARY:Community Passiflora and More Tasting
DESCRIPTION:We’ll be tasting Community Beer Co’s Passiflora Passion Fruit White IPA along with Razzy Wheat and Mosaic IPA
URL:https://www.whichcraft.com/event/community-passiflora-and-more-tasting/
LOCATION:WhichCraft Beer Store\, 2110 S Lamar Blvd STE F\, Austin\, TX\, 78704\, United States
CATEGORIES:Special Tastings
END:VEVENT
BEGIN:VEVENT
DTSTART;TZID=America/Chicago:20180726T170000
DTEND;TZID=America/Chicago:20180726T190000
DTSTAMP:20260425T053820
CREATED:20180416T225053Z
LAST-MODIFIED:20180710T221139Z
UID:3004-1532624400-1532631600@www.whichcraft.com
SUMMARY:Adelbert's at the Beer Store
DESCRIPTION:Adelbert’s comes by to show off their new Travelin’ Man IPA\, Naked Nun Wheat\, Hibiscus Saison and more!
URL:https://www.whichcraft.com/event/adelberts-at-the-beer-store/
LOCATION:WhichCraft Beer Store\, 2110 S Lamar Blvd STE F\, Austin\, TX\, 78704\, United States
CATEGORIES:Special Tastings
END:VEVENT
BEGIN:VEVENT
DTSTART;TZID=America/Chicago:20180723T190000
DTEND;TZID=America/Chicago:20180723T203000
DTSTAMP:20260425T053820
CREATED:20180710T220007Z
LAST-MODIFIED:20180710T220007Z
UID:3230-1532372400-1532377800@www.whichcraft.com
SUMMARY:Off Flavor Sensory Training with Hopsimath
DESCRIPTION:Join Laura Christie\, Certified Cicerone and owner of Hopsimath\, a beer education company\, to learn about four different commonly found beer off flavors: Light struck\, diacetyl\, isovaleric acid and oxidation. \nA $20 ticket gets you samples of each and 60-90 minutes of knowledge from Laura as she explains the science of what causes each off flavor and how to prevent them.
URL:https://www.whichcraft.com/event/off-flavor-sensory-training-with-hopsimath/
LOCATION:WhichCraft Mueller\, 1900 Simond Ave\, Suite 200\, Austin\, TX\, 78723\, United States
CATEGORIES:Special Tastings
END:VEVENT
BEGIN:VEVENT
DTSTART;TZID=America/Chicago:20180721T140000
DTEND;TZID=America/Chicago:20180721T160000
DTSTAMP:20260425T053820
CREATED:20180326T214715Z
LAST-MODIFIED:20180710T220928Z
UID:2944-1532181600-1532188800@www.whichcraft.com
SUMMARY:Save The World Brewing Tasting
DESCRIPTION:We’ll be opening bottles of Save The World’s Grisette\, Belgian Witbier and Froctum Bonum Saison
URL:https://www.whichcraft.com/event/save-the-world-brewing-tasting-2/
LOCATION:WhichCraft Beer Store\, 2110 S Lamar Blvd STE F\, Austin\, TX\, 78704\, United States
CATEGORIES:Special Tastings
END:VEVENT
BEGIN:VEVENT
DTSTART;TZID=America/Chicago:20180720T180000
DTEND;TZID=America/Chicago:20180720T200000
DTSTAMP:20260425T053820
CREATED:20180612T224921Z
LAST-MODIFIED:20180702T221949Z
UID:3180-1532109600-1532116800@www.whichcraft.com
SUMMARY:Meridian Hive Mead Tasting
DESCRIPTION:Anthony with Meridian Hive will be sampling their Trinity\, Dynamo\, and Wildfire meads!
URL:https://www.whichcraft.com/event/meridian-hive-mead-tasting/
LOCATION:WhichCraft Beer Store\, 2110 S Lamar Blvd STE F\, Austin\, TX\, 78704\, United States
CATEGORIES:Special Tastings
END:VEVENT
BEGIN:VEVENT
DTSTART;TZID=America/Chicago:20180719T180000
DTEND;TZID=America/Chicago:20180719T200000
DTSTAMP:20260425T053820
CREATED:20180530T190955Z
LAST-MODIFIED:20180628T181259Z
UID:3148-1532023200-1532030400@www.whichcraft.com
SUMMARY:Austin Beerworks Einhorn Mit Schuss
DESCRIPTION:We’ll be pouring samples of Austin Beerworks Einhorn Berliner Weisse with several syrups including the traditional German Woodruff syrup.
URL:https://www.whichcraft.com/event/austin-beerworks-einhorn-mit-schuss/
LOCATION:WhichCraft Beer Store\, 2110 S Lamar Blvd STE F\, Austin\, TX\, 78704\, United States
CATEGORIES:Special Tastings
END:VEVENT
BEGIN:VEVENT
DTSTART;TZID=America/Chicago:20180712T170000
DTEND;TZID=America/Chicago:20180712T200000
DTSTAMP:20260425T053820
CREATED:20180628T182154Z
LAST-MODIFIED:20180710T214752Z
UID:3202-1531414800-1531425600@www.whichcraft.com
SUMMARY:Epic Brewing Flight Night
DESCRIPTION:We’ll be featuring Epic Brewing’s RiNo Pale Ale in cans and also be pouring their Common Interests Oak Aged Honeydew Wheat Ale and their Oak and Orchard Dark Sour Plum.  $10 gets you a pour of both Common Interests\, Oak and Orchard and a can of RiNo!
URL:https://www.whichcraft.com/event/epic-brewing-flight-night/
LOCATION:WhichCraft Mueller\, 1900 Simond Ave\, Suite 200\, Austin\, TX\, 78723\, United States
CATEGORIES:Pint Night,Special Tastings
END:VEVENT
BEGIN:VEVENT
DTSTART;TZID=America/Chicago:20180711T180000
DTEND;TZID=America/Chicago:20180711T200000
DTSTAMP:20260425T053820
CREATED:20180628T180241Z
LAST-MODIFIED:20180628T180241Z
UID:3197-1531332000-1531339200@www.whichcraft.com
SUMMARY:Lakewood Seasonal Beer Tasting
DESCRIPTION:We’ll be tasting Lakewood Brewing’s newest seasonal\, Zomer Pils\, along with their IPA.
URL:https://www.whichcraft.com/event/lakewood-seasonal-beer-tasting/
LOCATION:WhichCraft Beer Store\, 2110 S Lamar Blvd STE F\, Austin\, TX\, 78704\, United States
CATEGORIES:Special Tastings
END:VEVENT
BEGIN:VEVENT
DTSTART;TZID=America/Chicago:20180709T190000
DTEND;TZID=America/Chicago:20180709T200000
DTSTAMP:20260425T053820
CREATED:20180628T182652Z
LAST-MODIFIED:20180628T230953Z
UID:3204-1531162800-1531166400@www.whichcraft.com
SUMMARY:WhichCraft Style Night: Lagers
DESCRIPTION:Put down the Pabst and let’s get into some real lager beer. We’ll learn about the difference between lagers and ales\, how a lager is brewed and taste several different styles from the game changing Czech Pilsener to the newest “it beer\,” Kölsch. \nJoin WhichCraft and The Beer Museum on Monday July 9th as we taste & talk all things Lager. This event will be hosted at WhichCraft Tap Room. The Beer Museum will be setting up the traveling roadshow version of the museum’s exhibits and will dive deep into the style’s history\, origins\, and how it’s brewed. WhichCraft’s very own Certified Cicerone Chuck Stephens will also provide in-depth knowledge about the ingredients used in each beer and tasting techniques.\n \nExpect 5 oz pours of 4 different Lagers (and maybe a bonus or 2!) as we discuss them as a group. Must be 21+. \nLink for tickets: https://www.eventbrite.com/e/whichcraft-style-night-lagers-tickets-47560518792
URL:https://www.whichcraft.com/event/whichcraft-style-night-lagers/
LOCATION:WhichCraft Mueller\, 1900 Simond Ave\, Suite 200\, Austin\, TX\, 78723\, United States
CATEGORIES:Special Tastings
END:VEVENT
BEGIN:VEVENT
DTSTART;TZID=America/Chicago:20180701T140000
DTEND;TZID=America/Chicago:20180701T160000
DTSTAMP:20260425T053820
CREATED:20180612T225435Z
LAST-MODIFIED:20180613T012738Z
UID:3181-1530453600-1530460800@www.whichcraft.com
SUMMARY:Blue Owl Brewery Tasting
DESCRIPTION:Jeremy with Blue Owl Brewery will be sampling their core line-up including their NEW Little Gose!
URL:https://www.whichcraft.com/event/blue-owl-brewery-tasting-2/
LOCATION:WhichCraft Beer Store\, 2110 S Lamar Blvd STE F\, Austin\, TX\, 78704\, United States
CATEGORIES:Special Tastings
END:VEVENT
BEGIN:VEVENT
DTSTART;TZID=America/Chicago:20180628T170000
DTEND;TZID=America/Chicago:20180628T190000
DTSTAMP:20260425T053820
CREATED:20180612T224224Z
LAST-MODIFIED:20180627T162104Z
UID:3178-1530205200-1530212400@www.whichcraft.com
SUMMARY:Pegasus City Brewery Tasting
DESCRIPTION:Pegasus City Brewery will be sampling their Canoneer\, Sixth Floor\, and DP&L Tripel.
URL:https://www.whichcraft.com/event/pegasus-city-brewery-tasting/
LOCATION:WhichCraft Beer Store\, 2110 S Lamar Blvd STE F\, Austin\, TX\, 78704\, United States
CATEGORIES:Special Tastings
END:VEVENT
BEGIN:VEVENT
DTSTART;TZID=America/Chicago:20180626T180000
DTEND;TZID=America/Chicago:20180626T200000
DTSTAMP:20260425T053820
CREATED:20180530T191813Z
LAST-MODIFIED:20180530T191813Z
UID:3150-1530036000-1530043200@www.whichcraft.com
SUMMARY:Buffalo Bayou Tasting
DESCRIPTION:Tanya from Buffalo Bayou Brewing will be here to sample out their Vanilla Mocha Sunset\, Tropical Rotundone and Summer Wit.
URL:https://www.whichcraft.com/event/buffalo-bayou-tasting/
LOCATION:WhichCraft Beer Store\, 2110 S Lamar Blvd STE F\, Austin\, TX\, 78704\, United States
CATEGORIES:Special Tastings
END:VEVENT
BEGIN:VEVENT
DTSTART;TZID=America/Chicago:20180616T140000
DTEND;TZID=America/Chicago:20180616T160000
DTSTAMP:20260425T053820
CREATED:20180530T190540Z
LAST-MODIFIED:20180612T230315Z
UID:3146-1529157600-1529164800@www.whichcraft.com
SUMMARY:Saint Arnold Seasonal Tasting
DESCRIPTION:Shannon from Saint Arnold Brewery will be here with their new Icon Gold\, Summer Pils and Art Car IPA.
URL:https://www.whichcraft.com/event/saint-arnold-seasonal-tasting/
LOCATION:WhichCraft Beer Store\, 2110 S Lamar Blvd STE F\, Austin\, TX\, 78704\, United States
CATEGORIES:Special Tastings
END:VEVENT
BEGIN:VEVENT
DTSTART;TZID=America/Chicago:20180611T190000
DTEND;TZID=America/Chicago:20180611T200000
DTSTAMP:20260425T053820
CREATED:20180530T151121Z
LAST-MODIFIED:20180530T151121Z
UID:3137-1528743600-1528747200@www.whichcraft.com
SUMMARY:Style Night: Gose
DESCRIPTION:Salty\, sweet & sour all at the same time\, the German style Gose has gone from near extinction to becoming a summertime favorite. As versatile as it is delicious\, Gose is great straight or when mixed with flavored syrups. \nJoin WhichCraft and The Beer Museum on Monday June 11th as we taste & talk all things Gose. We’ll be trying a traditional gose\, gose with Woodruff and a couple of different American style gose. \nThis event will be hosted at WhichCraft Tap Room. The Beer Museum will be setting up the traveling roadshow version of the museum’s exhibits and will dive deep into the style’s history\, origins\, and how it’s brewed. WhichCraft’s very own Certified Cicerone Chuck Stephens will also provide in-depth knowledge about the ingredients used in each beer and tasting techniques. \nExpect 5 oz pours of 4 different Gose (and maybe a bonus or 2!) as we discuss them as a group. Must be 21+.
URL:https://www.whichcraft.com/event/style-night-gose/
LOCATION:WhichCraft Mueller\, 1900 Simond Ave\, Suite 200\, Austin\, TX\, 78723\, United States
CATEGORIES:Special Tastings
END:VEVENT
BEGIN:VEVENT
DTSTART;TZID=America/Chicago:20180608T180000
DTEND;TZID=America/Chicago:20180608T200000
DTSTAMP:20260425T053820
CREATED:20180326T223249Z
LAST-MODIFIED:20180522T162338Z
UID:2948-1528480800-1528488000@www.whichcraft.com
SUMMARY:Tupps Double Dry Hopped and Core Beers Tasting
DESCRIPTION:Sahara from Tupps Brewery comes to sample out their new Double Dry Hopped IPA along with their core line-up: Citra Pale Ale\, Tupps IPA\, Texas Shade\, Cotton Mill Gold and more
URL:https://www.whichcraft.com/event/tupps-double-dry-hopped-and-core-beers-tasting/
LOCATION:WhichCraft Beer Store\, 2110 S Lamar Blvd STE F\, Austin\, TX\, 78704\, United States
CATEGORIES:Special Tastings
END:VEVENT
BEGIN:VEVENT
DTSTART;TZID=America/Chicago:20180601T170000
DTEND;TZID=America/Chicago:20180601T190000
DTSTAMP:20260425T053820
CREATED:20180522T161345Z
LAST-MODIFIED:20180522T161345Z
UID:3120-1527872400-1527879600@www.whichcraft.com
SUMMARY:5 Stones Brewing Tasting at The Beer Store
DESCRIPTION:Andrew from 5 Stones Brewing comes by with some fresh Shepherd Boy Pale Ale and their Aloha Pina in bottles
URL:https://www.whichcraft.com/event/5-stones-brewing-tasting-at-the-beer-store/
LOCATION:WhichCraft Beer Store\, 2110 S Lamar Blvd STE F\, Austin\, TX\, 78704\, United States
CATEGORIES:Special Tastings
END:VEVENT
BEGIN:VEVENT
DTSTART;TZID=America/Chicago:20180530T170000
DTEND;TZID=America/Chicago:20180530T200000
DTSTAMP:20260425T053820
CREATED:20180522T161107Z
LAST-MODIFIED:20180522T161107Z
UID:3119-1527699600-1527710400@www.whichcraft.com
SUMMARY:Oskar Blues/Cigar City Tasting at the Beer Store
DESCRIPTION:Hodge from Oskar Blues is coming by to sample out Fugli and Mama’s Lil’ Yella Pils along with Cigar City Brewing’s Guayabara Pale Ale.
URL:https://www.whichcraft.com/event/oskar-blues-cigar-city-tasting-at-the-beer-store/
LOCATION:WhichCraft Beer Store\, 2110 S Lamar Blvd STE F\, Austin\, TX\, 78704\, United States
CATEGORIES:Special Tastings
END:VEVENT
BEGIN:VEVENT
DTSTART;TZID=America/Chicago:20180525T170000
DTEND;TZID=America/Chicago:20180525T200000
DTSTAMP:20260425T053820
CREATED:20180521T153003Z
LAST-MODIFIED:20180521T153426Z
UID:3110-1527267600-1527278400@www.whichcraft.com
SUMMARY:(512) BA Double Pecan Porter Tasting
DESCRIPTION:(512) Brewing will be sampling out their latest batch of Whiskey Barrel Aged Double Pecan Porter at the Beer Store.  Get a taste and grab a bottle!
URL:https://www.whichcraft.com/event/512-ba-double-pecan-porter-tasting/
LOCATION:WhichCraft Beer Store\, 2110 S Lamar Blvd STE F\, Austin\, TX\, 78704\, United States
CATEGORIES:Special Tastings
END:VEVENT
BEGIN:VEVENT
DTSTART;TZID=America/Chicago:20180524T170000
DTEND;TZID=America/Chicago:20180524T200000
DTSTAMP:20260425T053820
CREATED:20180508T160631Z
LAST-MODIFIED:20180508T160637Z
UID:3085-1527181200-1527192000@www.whichcraft.com
SUMMARY:Martin House Salty Lady mit Schuss
DESCRIPTION:Summers in Germany mean Berliner Weisse & Gose mit Schuss or with syrup.  Join us and Martin House Brewing as we’ll be pouring their Salty Lady with syrups including the traditional sweet Woodruff syrup.
URL:https://www.whichcraft.com/event/martin-house-salty-lady-mit-schuss/
LOCATION:WhichCraft Mueller\, 1900 Simond Ave\, Suite 200\, Austin\, TX\, 78723\, United States
CATEGORIES:Special Tastings
END:VEVENT
BEGIN:VEVENT
DTSTART;TZID=America/Chicago:20180522T170000
DTEND;TZID=America/Chicago:20180522T200000
DTSTAMP:20260425T053820
CREATED:20180508T154529Z
LAST-MODIFIED:20180508T154529Z
UID:3083-1527008400-1527019200@www.whichcraft.com
SUMMARY:Special Schneider Weisse Tasting
DESCRIPTION:We’ve out together a special flight of Schneider Weisse rare releases. $15 gets you: \n\nBrooklyner – Mosaic hopped Helles Weizenbock\nBrotzeitbier – Rye weisse with a sourdough yeast culture\nEisbock\nCuvee Barique
URL:https://www.whichcraft.com/event/special-schneider-weisse-tasting/
LOCATION:WhichCraft Mueller\, 1900 Simond Ave\, Suite 200\, Austin\, TX\, 78723\, United States
CATEGORIES:Special Tastings
END:VEVENT
BEGIN:VEVENT
DTSTART;TZID=America/Chicago:20180519T170000
DTEND;TZID=America/Chicago:20180519T200000
DTSTAMP:20260425T053820
CREATED:20180508T185722Z
LAST-MODIFIED:20180508T185745Z
UID:3094-1526749200-1526760000@www.whichcraft.com
SUMMARY:(512) BA Double Pecan Porter Sampling
DESCRIPTION:(512) Brewing will be opening and sampling bottles of their rare Whiskey Barrel Aged Double Pecan Porter.
URL:https://www.whichcraft.com/event/512-ba-double-pecan-porter-sampling/
LOCATION:WhichCraft Mueller\, 1900 Simond Ave\, Suite 200\, Austin\, TX\, 78723\, United States
CATEGORIES:Special Tastings
END:VEVENT
BEGIN:VEVENT
DTSTART;TZID=America/Chicago:20180518T170000
DTEND;TZID=America/Chicago:20180518T190000
DTSTAMP:20260425T053820
CREATED:20180502T012506Z
LAST-MODIFIED:20180502T012506Z
UID:3067-1526662800-1526670000@www.whichcraft.com
SUMMARY:5 Stones Brewery at The Beer Store
DESCRIPTION:We’ll be tasting some fresh Shepherd Boy pale ale along with Aloha Pina – pineapple jalapeno golden ale from 5 Stones Brewery.
URL:https://www.whichcraft.com/event/5-stones-brewery-at-the-beer-store/
LOCATION:WhichCraft Beer Store\, 2110 S Lamar Blvd STE F\, Austin\, TX\, 78704\, United States
CATEGORIES:Special Tastings
END:VEVENT
BEGIN:VEVENT
DTSTART;TZID=America/Chicago:20180517T170000
DTEND;TZID=America/Chicago:20180517T190000
DTSTAMP:20260425T053820
CREATED:20180502T011607Z
LAST-MODIFIED:20180502T011607Z
UID:3066-1526576400-1526583600@www.whichcraft.com
SUMMARY:Meridian Hive Tasting at The Beer Store
DESCRIPTION:We’ve got a great mead tasting lined up with at Meridain Hive Meadery.  They’ll bring their new 3 peppercorn Trinity draft mead and dry-hopped Frontier draft mead to taste.
URL:https://www.whichcraft.com/event/meridian-hive-tasting-at-the-beer-store/
LOCATION:WhichCraft Beer Store\, 2110 S Lamar Blvd STE F\, Austin\, TX\, 78704\, United States
CATEGORIES:Special Tastings
END:VEVENT
BEGIN:VEVENT
DTSTART;TZID=America/Chicago:20180509T170000
DTEND;TZID=America/Chicago:20180509T190000
DTSTAMP:20260425T053820
CREATED:20180424T184222Z
LAST-MODIFIED:20180424T184222Z
UID:3037-1525885200-1525892400@www.whichcraft.com
SUMMARY:Lakewood Brewing at the Beer Store
DESCRIPTION:Lakewood Brewing comes by to sample out their Till & Toil Saison along with cans of their Lakewood IPA
URL:https://www.whichcraft.com/event/lakewood-brewing-at-the-beer-store/
LOCATION:WhichCraft Beer Store\, 2110 S Lamar Blvd STE F\, Austin\, TX\, 78704\, United States
CATEGORIES:Special Tastings
END:VEVENT
BEGIN:VEVENT
DTSTART;TZID=America/Chicago:20180508T170000
DTEND;TZID=America/Chicago:20180508T190000
DTSTAMP:20260425T053820
CREATED:20180424T183745Z
LAST-MODIFIED:20180424T183745Z
UID:3036-1525798800-1525806000@www.whichcraft.com
SUMMARY:Buffalo Bayou at The Beer Store
DESCRIPTION:Tanya from Buffalo Bayou Brewing comes by to open some of their special bottles of Lenin’s Revenge\, Pineapple3 and Morning Wood.
URL:https://www.whichcraft.com/event/buffalo-bayou-at-the-beer-store/
LOCATION:WhichCraft Beer Store\, 2110 S Lamar Blvd STE F\, Austin\, TX\, 78704\, United States
CATEGORIES:Special Tastings
END:VEVENT
BEGIN:VEVENT
DTSTART;TZID=America/Chicago:20180507T190000
DTEND;TZID=America/Chicago:20180507T200000
DTSTAMP:20260425T053820
CREATED:20180424T184847Z
LAST-MODIFIED:20180425T021236Z
UID:3039-1525719600-1525723200@www.whichcraft.com
SUMMARY:Style Night: NEIPA vs. West Coast IPA
DESCRIPTION:You’ve heard about them\, maybe had a few. Maybe you don’t even think a NEIPA is an IPA. \nJoin WhichCraft and The Beer Museum on Monday May 7th as we split hairs and debate the hops\, malts and all that other stuff of the West Coast Style IPA (Old School) vs. New England Style IPA (New School). We’ll cover the history of IPAs from Old England to California to New England while we sip on 3 classic West Coast IPAs and 3 fresh New England styles. \n\n\nThis event will be hosted at WhichCraft Tap Room. The Beer Museum will be setting up the traveling roadshow version of the museum’s exhibits and will dive deep into the style’s history\, origins\, and how it’s brewed. WhichCraft’s very own Certified Cicerone Chuck Stephens will also provide in-depth knowledge about the ingredients used in each beer and tasting techniques. \nExpect 3-4 oz pours of 6 different IPAs as we discuss them as a group. Must be 21+.\n\n\nTix Here: https://www.eventbrite.com/e/whichcraft-style-night-west-coast-vs-new-england-ipa-tickets-45484974784
URL:https://www.whichcraft.com/event/style-night-neipa-vs-west-coast-ipa/
LOCATION:WhichCraft Mueller\, 1900 Simond Ave\, Suite 200\, Austin\, TX\, 78723\, United States
CATEGORIES:Special Tastings
END:VEVENT
BEGIN:VEVENT
DTSTART;TZID=America/Chicago:20180503T170000
DTEND;TZID=America/Chicago:20180503T190000
DTSTAMP:20260425T053820
CREATED:20180424T182319Z
LAST-MODIFIED:20180424T182319Z
UID:3031-1525366800-1525374000@www.whichcraft.com
SUMMARY:Alaskan Brewing Co. at The Beer Store
DESCRIPTION:Alaskan Brewing Co. brings their seasonal beers including the new SMaSH Galaxy\, 212 Amber and Spruce IPA
URL:https://www.whichcraft.com/event/alaskan-brewing-co-at-the-beer-store/
LOCATION:WhichCraft Beer Store\, 2110 S Lamar Blvd STE F\, Austin\, TX\, 78704\, United States
CATEGORIES:Special Tastings
END:VEVENT
END:VCALENDAR